Workbook

Sheet Meldedatei Nikolausergo
B1: 31. Nikolaus-Ergometerrudern | H1: SC Berlin-Köpenick e.V.
H2: Nixenstraße 2
H3: 12459 Berlin
D4: am 05. Dezember 2026 | G4: Meldungen an: | H4: jan@scbk.de
B5: Verein:
E6: Mobilfunknummer:
B7: Obleut: | E7: E-Mail-Adresse:
H8: Regattabeitrag: | I8: =SUM(I11:I60) -> 0
B9: Rennen-Nr. | C9: Bezeichnung | D9: Streckenlänge | E9: Vorname | F9: Nachname | G9: Jahrgang | H9: Verein | I9: Startkosten | J9: Bemerkung
A10: Bsp.: | B10: Rennen 1 | C10: // automatisch // | D10: // automatisch // | E10: # Vorname | F10: # Nachname | G10: # Jahrgang | H10: // automatisch // | I10: // automatisch //
A11: 1 | C11: =IF(ISNA(VLOOKUP(B11,geschützt!B:F,2,0)),"",VLOOKUP(B11,geschützt!B:F,2,0)) | D11: =IF(ISNA(VLOOKUP(B11,geschützt!B:F,3,0)),"",VLOOKUP(B11,geschützt!B:F,3,0)) | H11: =IF(ISNA(VLOOKUP(B11,geschützt!B:F,2,0)),"",VLOOKUP(B11,geschützt!B:F,4,0)) | I11: =IF(ISNA(VLOOKUP(B11,geschützt!B:F,2,0)),"",VLOOKUP(B11,geschützt!B:F,5,0))
A12: 2 | C12: =IF(ISNA(VLOOKUP(B12,geschützt!B:F,2,0)),"",VLOOKUP(B12,geschützt!B:F,2,0)) | D12: =IF(ISNA(VLOOKUP(B12,geschützt!B:F,3,0)),"",VLOOKUP(B12,geschützt!B:F,3,0)) | H12: =IF(ISNA(VLOOKUP(B12,geschützt!B:F,2,0)),"",VLOOKUP(B12,geschützt!B:F,4,0)) | I12: =IF(ISNA(VLOOKUP(B12,geschützt!B:F,2,0)),"",VLOOKUP(B12,geschützt!B:F,5,0))
A13: 3 | C13: =IF(ISNA(VLOOKUP(B13,geschützt!B:F,2,0)),"",VLOOKUP(B13,geschützt!B:F,2,0)) | D13: =IF(ISNA(VLOOKUP(B13,geschützt!B:F,3,0)),"",VLOOKUP(B13,geschützt!B:F,3,0)) | H13: =IF(ISNA(VLOOKUP(B13,geschützt!B:F,2,0)),"",VLOOKUP(B13,geschützt!B:F,4,0)) | I13: =IF(ISNA(VLOOKUP(B13,geschützt!B:F,2,0)),"",VLOOKUP(B13,geschützt!B:F,5,0))
A14: 4 | C14: =IF(ISNA(VLOOKUP(B14,geschützt!B:F,2,0)),"",VLOOKUP(B14,geschützt!B:F,2,0)) | D14: =IF(ISNA(VLOOKUP(B14,geschützt!B:F,3,0)),"",VLOOKUP(B14,geschützt!B:F,3,0)) | H14: =IF(ISNA(VLOOKUP(B14,geschützt!B:F,2,0)),"",VLOOKUP(B14,geschützt!B:F,4,0)) | I14: =IF(ISNA(VLOOKUP(B14,geschützt!B:F,2,0)),"",VLOOKUP(B14,geschützt!B:F,5,0))
A15: 5 | C15: =IF(ISNA(VLOOKUP(B15,geschützt!B:F,2,0)),"",VLOOKUP(B15,geschützt!B:F,2,0)) | D15: =IF(ISNA(VLOOKUP(B15,geschützt!B:F,3,0)),"",VLOOKUP(B15,geschützt!B:F,3,0)) | H15: =IF(ISNA(VLOOKUP(B15,geschützt!B:F,2,0)),"",VLOOKUP(B15,geschützt!B:F,4,0)) | I15: =IF(ISNA(VLOOKUP(B15,geschützt!B:F,2,0)),"",VLOOKUP(B15,geschützt!B:F,5,0))
A16: 6 | C16: =IF(ISNA(VLOOKUP(B16,geschützt!B:F,2,0)),"",VLOOKUP(B16,geschützt!B:F,2,0)) | D16: =IF(ISNA(VLOOKUP(B16,geschützt!B:F,3,0)),"",VLOOKUP(B16,geschützt!B:F,3,0)) | H16: =IF(ISNA(VLOOKUP(B16,geschützt!B:F,2,0)),"",VLOOKUP(B16,geschützt!B:F,4,0)) | I16: =IF(ISNA(VLOOKUP(B16,geschützt!B:F,2,0)),"",VLOOKUP(B16,geschützt!B:F,5,0))
A17: 7 | C17: =IF(ISNA(VLOOKUP(B17,geschützt!B:F,2,0)),"",VLOOKUP(B17,geschützt!B:F,2,0)) | D17: =IF(ISNA(VLOOKUP(B17,geschützt!B:F,3,0)),"",VLOOKUP(B17,geschützt!B:F,3,0)) | H17: =IF(ISNA(VLOOKUP(B17,geschützt!B:F,2,0)),"",VLOOKUP(B17,geschützt!B:F,4,0)) | I17: =IF(ISNA(VLOOKUP(B17,geschützt!B:F,2,0)),"",VLOOKUP(B17,geschützt!B:F,5,0))
A18: 8 | C18: =IF(ISNA(VLOOKUP(B18,geschützt!B:F,2,0)),"",VLOOKUP(B18,geschützt!B:F,2,0)) | D18: =IF(ISNA(VLOOKUP(B18,geschützt!B:F,3,0)),"",VLOOKUP(B18,geschützt!B:F,3,0)) | H18: =IF(ISNA(VLOOKUP(B18,geschützt!B:F,2,0)),"",VLOOKUP(B18,geschützt!B:F,4,0)) | I18: =IF(ISNA(VLOOKUP(B18,geschützt!B:F,2,0)),"",VLOOKUP(B18,geschützt!B:F,5,0))
A19: 9 | C19: =IF(ISNA(VLOOKUP(B19,geschützt!B:F,2,0)),"",VLOOKUP(B19,geschützt!B:F,2,0)) | D19: =IF(ISNA(VLOOKUP(B19,geschützt!B:F,3,0)),"",VLOOKUP(B19,geschützt!B:F,3,0)) | H19: =IF(ISNA(VLOOKUP(B19,geschützt!B:F,2,0)),"",VLOOKUP(B19,geschützt!B:F,4,0)) | I19: =IF(ISNA(VLOOKUP(B19,geschützt!B:F,2,0)),"",VLOOKUP(B19,geschützt!B:F,5,0))
A20: 10 | C20: =IF(ISNA(VLOOKUP(B20,geschützt!B:F,2,0)),"",VLOOKUP(B20,geschützt!B:F,2,0)) | D20: =IF(ISNA(VLOOKUP(B20,geschützt!B:F,3,0)),"",VLOOKUP(B20,geschützt!B:F,3,0)) | H20: =IF(ISNA(VLOOKUP(B20,geschützt!B:F,2,0)),"",VLOOKUP(B20,geschützt!B:F,4,0)) | I20: =IF(ISNA(VLOOKUP(B20,geschützt!B:F,2,0)),"",VLOOKUP(B20,geschützt!B:F,5,0))
A21: 11 | C21: =IF(ISNA(VLOOKUP(B21,geschützt!B:F,2,0)),"",VLOOKUP(B21,geschützt!B:F,2,0)) | D21: =IF(ISNA(VLOOKUP(B21,geschützt!B:F,3,0)),"",VLOOKUP(B21,geschützt!B:F,3,0)) | H21: =IF(ISNA(VLOOKUP(B21,geschützt!B:F,2,0)),"",VLOOKUP(B21,geschützt!B:F,4,0)) | I21: =IF(ISNA(VLOOKUP(B21,geschützt!B:F,2,0)),"",VLOOKUP(B21,geschützt!B:F,5,0))
A22: 12 | C22: =IF(ISNA(VLOOKUP(B22,geschützt!B:F,2,0)),"",VLOOKUP(B22,geschützt!B:F,2,0)) | D22: =IF(ISNA(VLOOKUP(B22,geschützt!B:F,3,0)),"",VLOOKUP(B22,geschützt!B:F,3,0)) | H22: =IF(ISNA(VLOOKUP(B22,geschützt!B:F,2,0)),"",VLOOKUP(B22,geschützt!B:F,4,0)) | I22: =IF(ISNA(VLOOKUP(B22,geschützt!B:F,2,0)),"",VLOOKUP(B22,geschützt!B:F,5,0))
... A59: 49 | C59: =IF(ISNA(VLOOKUP(B59,geschützt!B:F,2,0)),"",VLOOKUP(B59,geschützt!B:F,2,0)) | D59: =IF(ISNA(VLOOKUP(B59,geschützt!B:F,3,0)),"",VLOOKUP(B59,geschützt!B:F,3,0)) | H59: =IF(ISNA(VLOOKUP(B59,geschützt!B:F,2,0)),"",VLOOKUP(B59,geschützt!B:F,4,0)) | I59: =IF(ISNA(VLOOKUP(B59,geschützt!B:F,2,0)),"",VLOOKUP(B59,geschützt!B:F,5,0))
A60: 50 | C60: =IF(ISNA(VLOOKUP(B60,geschützt!B:F,2,0)),"",VLOOKUP(B60,geschützt!B:F,2,0)) | D60: =IF(ISNA(VLOOKUP(B60,geschützt!B:F,3,0)),"",VLOOKUP(B60,geschützt!B:F,3,0)) | H60: =IF(ISNA(VLOOKUP(B60,geschützt!B:F,2,0)),"",VLOOKUP(B60,geschützt!B:F,4,0)) | I60: =IF(ISNA(VLOOKUP(B60,geschützt!B:F,5,0)),"",VLOOKUP(B60,geschützt!B:F,5,0))

Sheet geschützt
B2: Rennen-Nr. | C2: Bezeichung | D2: Streckenlänge | E2: Verein | F2: Startkosten
B3: Rennen 1 | C3: JF B Lgw. (bis 55,0kg) | D3: 2000m | E3: ='Meldedatei Nikolausergo'!C5 -> 0 | F3: 10
B4: Rennen 2 | C4: JF B | D4: 2000m | E4: ='Meldedatei Nikolausergo'!C5 -> 0 | F4: 10
B5: Rennen 3 | C5: JM B Lgw. (bis 65,0kg) | D5: 2000m | E5: ='Meldedatei Nikolausergo'!C5 -> 0 | F5: 10
B6: Rennen 4 | C6: JM B | D6: 2000m | E6: ='Meldedatei Nikolausergo'!C5 -> 0 | F6: 10
B7: Rennen 5 | C7: JF A Lgw. (bis 57,5kg) | D7: 2000m | E7: ='Meldedatei Nikolausergo'!C5 -> 0 | F7: 10
B8: Rennen 6 | C8: JF A | D8: 2000m | E8: ='Meldedatei Nikolausergo'!C5 -> 0 | F8: 10
B9: Rennen 7 | C9: JM A Lgw. (bis 67,5kg) | D9: 2000m | E9: ='Meldedatei Nikolausergo'!C5 -> 0 | F9: 10
B10: Rennen 8 | C10: JM A | D10: 2000m | E10: ='Meldedatei Nikolausergo'!C5 -> 0 | F10: 10
B11: Rennen 9 | C11: Mädchen 2016 und jünger | D11: 300m | E11: ='Meldedatei Nikolausergo'!C5 -> 0 | F11: 8
B12: Rennen 10 | C12: Jungen 2016 und jünger | D12: 300m | E12: ='Meldedatei Nikolausergo'!C5 -> 0 | F12: 8
B13: Rennen 11 | C13: Mädchen 2015 | D13: 500m | E13: ='Meldedatei Nikolausergo'!C5 -> 0 | F13: 8
B14: Rennen 12 | C14: Jungen 2015 | D14: 500m | E14: ='Meldedatei Nikolausergo'!C5 -> 0 | F14: 8
B15: Rennen 13 | C15: Mädchen 2014 Lgw. (bis 50,0kg) | D15: 1000m | E15: ='Meldedatei Nikolausergo'!C5 -> 0 | F15: 8
B16: Rennen 14 | C16: Mädchen 2014 | D16: 1000m | E16: ='Meldedatei Nikolausergo'!C5 -> 0 | F16: 8
B17: Rennen 15 | C17: Jungen 2014 Lgw. (bis 50,0kg) | D17: 1000m | E17: ='Meldedatei Nikolausergo'!C5 -> 0 | F17: 8
B18: Rennen 16 | C18: Jungen 2014 | D18: 1000m | E18: ='Meldedatei Nikolausergo'!C5 -> 0 | F18: 8
B19: Rennen 17 | C19: Mädchen 2013 Lgw. (bis 52,5kg) | D19: 1000m | E19: ='Meldedatei Nikolausergo'!C5 -> 0 | F19: 8
B20: Rennen 18 | C20: Mädchen 2013 | D20: 1000m | E20: ='Meldedatei Nikolausergo'!C5 -> 0 | F20: 8
B21: Rennen 19 | C21: Jungen 2013 Lgw. (bis 55,0kg) | D21: 1000m | E21: ='Meldedatei Nikolausergo'!C5 -> 0 | F21: 8
B22: Rennen 20 | C22: Jungen 2013 | D22: 1000m | E22: ='Meldedatei Nikolausergo'!C5 -> 0 | F22: 8
B23: Rennen 21w | C23: Betreuerrennen weiblich | D23: 300m | E23: ='Meldedatei Nikolausergo'!C5 -> 0 | F23: 1
B24: Rennen 21m | C24: Betreuerrennen männlich | D24: 300m | E24: ='Meldedatei Nikolausergo'!C5 -> 0 | F24: 1
B25: Rennen 22 | C25: Mix-Vierer Mä/Ju 2013 und jünger | D25: 4x250m | E25: ='Meldedatei Nikolausergo'!C5 -> 0 | F25: 16
B26: Rennen 23 | C26: JF B 2.WKE | D26: 1000m | E26: ='Meldedatei Nikolausergo'!C5 -> 0 | F26: 10
B27: Rennen 24 | C27: JM B 2.WKE | D27: 1000m | E27: ='Meldedatei Nikolausergo'!C5 -> 0 | F27: 10
B28: Rennen 25 | C28: JF A 2.WKE | D28: 1000m | E28: ='Meldedatei Nikolausergo'!C5 -> 0 | F28: 10
B29: Rennen 26 | C29: JM A 2.WKE | D29: 1000m | E29: ='Meldedatei Nikolausergo'!C5 -> 0 | F29: 10
B30: Rennen 27 | C30: SF B | D30: 1000m | E30: ='Meldedatei Nikolausergo'!C5 -> 0 | F30: 12
B31: Rennen 28 | C31: SM B | D31: 1000m | E31: ='Meldedatei Nikolausergo'!C5 -> 0 | F31: 12
B32: Rennen 29 | C32: SF A | D32: 1000m | E32: ='Meldedatei Nikolausergo'!C5 -> 0 | F32: 12
B33: Rennen 30 | C33: SM A | D33: 1000m | E33: ='Meldedatei Nikolausergo'!C5 -> 0 | F33: 12
B34: Rennen 31 | C34: MW A-F | D34: 500m | E34: ='Meldedatei Nikolausergo'!C5 -> 0 | F34: 12
B35: Rennen 32 | C35: MM A-F | D35: 500m | E35: ='Meldedatei Nikolausergo'!C5 -> 0 | F35: 12
B36: Rennen 33 | C36: Mix-Vierer Vereinsstaffel | D36: 4x250m | E36: ='Meldedatei Nikolausergo'!C5 -> 0 | F36: 18
